BEGIN:VCALENDAR
VERSION:2.0
PRODID:-//jEvents 2.0 for Joomla//EN
CALSCALE:GREGORIAN
METHOD:PUBLISH
BEGIN:VTIMEZONE
TZID:Europe/Berlin
END:VTIMEZONE
BEGIN:VEVENT
UID:d71c1e534851fe03b08f034d8e1de853
CATEGORIES:Öffentlich
SUMMARY:Silvesterfliegen am Modellflugplatz
DESCRIPTION;ENCODING=QUOTED-PRINTABLE:\n\nWir treffen uns am 31.12. ab 13:00 Uhr am Modellflugplatz zum Fliegen o
 der einfach um ein Schwätzchen zu halten. Zum Aufwärmen wird es Glühwein ge
 ben.\n Da unsere Webcam am Flugplatz bereits "Winterschlaf" macht, wird am 
 31.12. bis ca. 10:00 Uhr auf der Homepage mitgeteilt, ob wir am Platz drauß
 en sein werden oder nicht.\n
DTSTAMP:20260425T135611Z
DTSTART;TZID=Europe/Berlin:20161231T130000
SEQUENCE:0
RRULE:FREQ=YEARLY;COUNT=10;INTERVAL=1;BYYEARDAY=-1
TRANSP:OPAQUE
END:VEVENT
END:VCALENDAR