BEGIN:VCALENDAR
VERSION:2.0
PRODID:-//jEvents 2.0 for Joomla//EN
CALSCALE:GREGORIAN
METHOD:PUBLISH
BEGIN:VTIMEZONE
TZID:Europe/Berlin
END:VTIMEZONE
BEGIN:VEVENT
UID:90490868188799a91c92f18872445077
CATEGORIES:Öffentlich
SUMMARY:Hallenfliegen in der Stadthalle Langenau
DESCRIPTION;ENCODING=QUOTED-PRINTABLE:
DTSTAMP:20260425T054251Z
DTSTART;TZID=Europe/Berlin:20241112T203000
DTEND;TZID=Europe/Berlin:20241112T220000
SEQUENCE:0
TRANSP:OPAQUE
END:VEVENT
END:VCALENDAR