BEGIN:VCALENDAR
VERSION:2.0
PRODID:-//jEvents 2.0 for Joomla//EN
CALSCALE:GREGORIAN
METHOD:PUBLISH
BEGIN:VTIMEZONE
TZID:Europe/Berlin
END:VTIMEZONE
BEGIN:VEVENT
UID:1e3e4e3a6666c0829ed6b4d531ff829d
CATEGORIES:Öffentlich
SUMMARY:Hallenfliegen -->> enfällt wegen einer Veranstaltung in der Stadthalle Langenau
DESCRIPTION;ENCODING=QUOTED-PRINTABLE:\n\n\n
DTSTAMP:20260425T054316Z
DTSTART;TZID=Europe/Berlin:20241126T203000
DTEND;TZID=Europe/Berlin:20241126T220000
SEQUENCE:0
TRANSP:OPAQUE
END:VEVENT
END:VCALENDAR