BEGIN:VCALENDAR
VERSION:2.0
PRODID:-//jEvents 2.0 for Joomla//EN
CALSCALE:GREGORIAN
METHOD:PUBLISH
BEGIN:VTIMEZONE
TZID:Europe/Berlin
END:VTIMEZONE
BEGIN:VEVENT
UID:2c5f639ec7b352634948decfd9b3bd70
CATEGORIES:Öffentlich
SUMMARY:Bastelabend in der AWO
DESCRIPTION;ENCODING=QUOTED-PRINTABLE:
DTSTAMP:20260425T054317Z
DTSTART;TZID=Europe/Berlin:20241120T183000
DTEND;TZID=Europe/Berlin:20241120T210000
SEQUENCE:0
TRANSP:OPAQUE
END:VEVENT
END:VCALENDAR