BEGIN:VCALENDAR
VERSION:2.0
PRODID:-//jEvents 2.0 for Joomla//EN
CALSCALE:GREGORIAN
METHOD:PUBLISH
BEGIN:VTIMEZONE
TZID:Europe/Berlin
END:VTIMEZONE
BEGIN:VEVENT
UID:260f033a64856794412324c21a6c7c87
CATEGORIES:Öffentlich
SUMMARY:Treffen Vereinsvorstände umliegende Vereine in der AWO Langenau
DESCRIPTION;ENCODING=QUOTED-PRINTABLE:
DTSTAMP:20260425T054316Z
DTSTART;TZID=Europe/Berlin:20241124T110000
SEQUENCE:0
TRANSP:OPAQUE
END:VEVENT
END:VCALENDAR