BEGIN:VCALENDAR
VERSION:2.0
PRODID:-//jEvents 2.0 for Joomla//EN
CALSCALE:GREGORIAN
METHOD:PUBLISH
BEGIN:VTIMEZONE
TZID:Europe/Berlin
END:VTIMEZONE
BEGIN:VEVENT
UID:276ebf79e3926f8c3b508b658f8bc433
CATEGORIES:Öffentlich
SUMMARY:Stammtisch in der AWO
DESCRIPTION;ENCODING=QUOTED-PRINTABLE:
DTSTAMP:20260425T123121Z
DTSTART;TZID=Europe/Berlin:20250328T190000
SEQUENCE:0
TRANSP:OPAQUE
END:VEVENT
END:VCALENDAR