BEGIN:VCALENDAR
VERSION:2.0
PRODID:-//jEvents 2.0 for Joomla//EN
CALSCALE:GREGORIAN
METHOD:PUBLISH
BEGIN:VTIMEZONE
TZID:Europe/Berlin
END:VTIMEZONE
BEGIN:VEVENT
UID:4d507c44c25a74100f9f27a26bfc1052
CATEGORIES:Öffentlich
SUMMARY:Vorbereitungen Schnupperfliegen, anschließend regulärer Flugbetrieb mit gemeinsamen Grillen ab 18 Uhr
DESCRIPTION;ENCODING=QUOTED-PRINTABLE:
DTSTAMP:20260425T124606Z
DTSTART;TZID=Europe/Berlin:20250705T140000
SEQUENCE:0
TRANSP:OPAQUE
END:VEVENT
END:VCALENDAR