BEGIN:VCALENDAR
VERSION:2.0
PRODID:-//jEvents 2.0 for Joomla//EN
CALSCALE:GREGORIAN
METHOD:PUBLISH
BEGIN:VTIMEZONE
TZID:Europe/Berlin
END:VTIMEZONE
BEGIN:VEVENT
UID:9956d63c87bc0159d41620bf1ae6ef6a
CATEGORIES:Öffentlich
SUMMARY:Aufbau Schnupperfliegen
DESCRIPTION;ENCODING=QUOTED-PRINTABLE:
DTSTAMP:20260425T124625Z
DTSTART;TZID=Europe/Berlin:20250706T093000
DTEND;TZID=Europe/Berlin:20250706T110000
SEQUENCE:0
TRANSP:OPAQUE
END:VEVENT
END:VCALENDAR