BEGIN:VCALENDAR
VERSION:2.0
PRODID:-//jEvents 2.0 for Joomla//EN
CALSCALE:GREGORIAN
METHOD:PUBLISH
BEGIN:VTIMEZONE
TZID:Europe/Berlin
END:VTIMEZONE
BEGIN:VEVENT
UID:e475b25bb72b582bf6716a5de425d703
CATEGORIES:Öffentlich
SUMMARY:Stammtisch mit Fliegen und ab 18 Uhr Grillen. Bei schlechtem Wetter ab 19 Uhr in der AWO (ohne Grillen)
DESCRIPTION;ENCODING=QUOTED-PRINTABLE:
DTSTAMP:20260425T122931Z
DTSTART;TZID=Europe/Berlin:20250725T180000
SEQUENCE:0
TRANSP:OPAQUE
END:VEVENT
END:VCALENDAR