BEGIN:VCALENDAR
VERSION:2.0
PRODID:-//jEvents 2.0 for Joomla//EN
CALSCALE:GREGORIAN
METHOD:PUBLISH
BEGIN:VTIMEZONE
TZID:Europe/Berlin
END:VTIMEZONE
BEGIN:VEVENT
UID:a64589918eadd484475279193cf0a817
CATEGORIES:Öffentlich
SUMMARY:Infostand auf der LAMETA in Langenau, Uhlandschule Innenhof
DESCRIPTION;ENCODING=QUOTED-PRINTABLE:
DTSTAMP:20260420T231401Z
DTSTART;TZID=Europe/Berlin:20260510T110000
DTEND;TZID=Europe/Berlin:20260510T180000
SEQUENCE:0
TRANSP:OPAQUE
END:VEVENT
END:VCALENDAR