BEGIN:VCALENDAR
VERSION:2.0
PRODID:-//jEvents 2.0 for Joomla//EN
CALSCALE:GREGORIAN
METHOD:PUBLISH
BEGIN:VTIMEZONE
TZID:Europe/Berlin
END:VTIMEZONE
BEGIN:VEVENT
UID:af3febb6adadf9a818640b412297c033
CATEGORIES:Öffentlich
SUMMARY:Silvesterfliegen am Modellflugplatz
DESCRIPTION;ENCODING=QUOTED-PRINTABLE:
DTSTAMP:20260426T054905Z
DTSTART;TZID=Europe/Berlin:20191231T130000
DTEND;TZID=Europe/Berlin:20191231T153000
SEQUENCE:0
TRANSP:OPAQUE
END:VEVENT
END:VCALENDAR