BEGIN:VCALENDAR
VERSION:2.0
PRODID:-//jEvents 2.0 for Joomla//EN
CALSCALE:GREGORIAN
METHOD:PUBLISH
BEGIN:VTIMEZONE
TZID:Europe/Berlin
END:VTIMEZONE
BEGIN:VEVENT
UID:76f766d95891463de5574e572d2b3069
CATEGORIES:Öffentlich
SUMMARY:Anliegertreffen, Gasthaus Adler in Nerenstetten
DESCRIPTION;ENCODING=QUOTED-PRINTABLE:
DTSTAMP:20260425T175637Z
DTSTART;TZID=Europe/Berlin:20200110T193000
SEQUENCE:0
TRANSP:OPAQUE
END:VEVENT
END:VCALENDAR