BEGIN:VCALENDAR
VERSION:2.0
PRODID:-//jEvents 2.0 for Joomla//EN
CALSCALE:GREGORIAN
METHOD:PUBLISH
BEGIN:VTIMEZONE
TZID:Europe/Berlin
END:VTIMEZONE
BEGIN:VEVENT
UID:0a6345ad4b08119fe955d3d25868f665
CATEGORIES:Öffentlich
SUMMARY:Jahreshauptversammlung, Gasthaus Linde in Langenau
DESCRIPTION;ENCODING=QUOTED-PRINTABLE:
DTSTAMP:20260425T175600Z
DTSTART;TZID=Europe/Berlin:20200306T190000
SEQUENCE:0
TRANSP:OPAQUE
END:VEVENT
END:VCALENDAR