BEGIN:VCALENDAR
VERSION:2.0
PRODID:-//jEvents 2.0 for Joomla//EN
CALSCALE:GREGORIAN
METHOD:PUBLISH
BEGIN:VTIMEZONE
TZID:Europe/Berlin
END:VTIMEZONE
BEGIN:VEVENT
UID:4c129d8be8337bd114d28f193ed0898e
CATEGORIES:Öffentlich
SUMMARY:--ABGESAGT-- Ausweichtermin Platzpflege
DESCRIPTION;ENCODING=QUOTED-PRINTABLE:
DTSTAMP:20260425T175642Z
DTSTART;TZID=Europe/Berlin:20200404T130000
SEQUENCE:0
TRANSP:OPAQUE
END:VEVENT
END:VCALENDAR