BEGIN:VCALENDAR
VERSION:2.0
PRODID:-//jEvents 2.0 for Joomla//EN
CALSCALE:GREGORIAN
METHOD:PUBLISH
BEGIN:VTIMEZONE
TZID:Europe/Berlin
END:VTIMEZONE
BEGIN:VEVENT
UID:2820f75a2b2ede0dd281cce5c0370561
CATEGORIES:Öffentlich
SUMMARY:Platzpflege >>> VERSCHOBEN auf den 24.10.2020
DESCRIPTION;ENCODING=QUOTED-PRINTABLE:
DTSTAMP:20260425T175558Z
DTSTART;TZID=Europe/Berlin:20201017T130000
DTEND;TZID=Europe/Berlin:20201017T170000
SEQUENCE:0
TRANSP:OPAQUE
END:VEVENT
END:VCALENDAR