BEGIN:VCALENDAR
VERSION:2.0
PRODID:-//jEvents 2.0 for Joomla//EN
CALSCALE:GREGORIAN
METHOD:PUBLISH
BEGIN:VTIMEZONE
TZID:Europe/Berlin
END:VTIMEZONE
BEGIN:VEVENT
UID:f7eca090066ccd8a5ab2cc1d452837f5
CATEGORIES:Öffentlich
SUMMARY:2. Anlauf Platzpflege
DESCRIPTION;ENCODING=QUOTED-PRINTABLE:
DTSTAMP:20260425T175600Z
DTSTART;TZID=Europe/Berlin:20201024T130000
DTEND;TZID=Europe/Berlin:20201024T170000
SEQUENCE:0
TRANSP:OPAQUE
END:VEVENT
END:VCALENDAR