BEGIN:VCALENDAR
VERSION:2.0
PRODID:-//jEvents 2.0 for Joomla//EN
CALSCALE:GREGORIAN
METHOD:PUBLISH
BEGIN:VTIMEZONE
TZID:Europe/Berlin
END:VTIMEZONE
BEGIN:VEVENT
UID:4e82f769b5cde851d41bb080ff5b0c41
CATEGORIES:Öffentlich
SUMMARY:Platzpflege
DESCRIPTION;ENCODING=QUOTED-PRINTABLE:
DTSTAMP:20260425T123121Z
DTSTART;TZID=Europe/Berlin:20220326T130000
DTEND;TZID=Europe/Berlin:20220326T170000
SEQUENCE:0
TRANSP:OPAQUE
END:VEVENT
END:VCALENDAR