BEGIN:VCALENDAR
VERSION:2.0
PRODID:-//jEvents 2.0 for Joomla//EN
CALSCALE:GREGORIAN
METHOD:PUBLISH
BEGIN:VTIMEZONE
TZID:Europe/Berlin
END:VTIMEZONE
BEGIN:VEVENT
UID:9b5fe0213d896a374b824c6173ac5794
CATEGORIES:Öffentlich
SUMMARY:Flugplatzfest mit Flugvorführungen auf dem Modellflugplatz Setzingen
DESCRIPTION;ENCODING=QUOTED-PRINTABLE:
DTSTAMP:20260425T123108Z
DTSTART;TZID=Europe/Berlin:20230709T110000
DTEND;TZID=Europe/Berlin:20230709T170000
SEQUENCE:0
TRANSP:OPAQUE
END:VEVENT
END:VCALENDAR