BEGIN:VCALENDAR
VERSION:2.0
PRODID:-//jEvents 2.0 for Joomla//EN
CALSCALE:GREGORIAN
METHOD:PUBLISH
BEGIN:VTIMEZONE
TZID:Europe/Berlin
END:VTIMEZONE
BEGIN:VEVENT
UID:be0b4d7b2793aa9355ee2155197a1dcb
CATEGORIES:Öffentlich
SUMMARY:Basteln Jugendgruppe in der AWO Langenau
DESCRIPTION;ENCODING=QUOTED-PRINTABLE:
DTSTAMP:20260425T054316Z
DTSTART;TZID=Europe/Berlin:20231115T183000
DTEND;TZID=Europe/Berlin:20231115T210000
SEQUENCE:0
TRANSP:OPAQUE
END:VEVENT
END:VCALENDAR