BEGIN:VCALENDAR
VERSION:2.0
PRODID:-//jEvents 2.0 for Joomla//EN
CALSCALE:GREGORIAN
METHOD:PUBLISH
BEGIN:VTIMEZONE
TZID:Europe/Berlin
END:VTIMEZONE
BEGIN:VEVENT
UID:f8145a6e7ae35bb1d3545077a7d2082d
CATEGORIES:Öffentlich
SUMMARY:Basteln Jugendgruppe in der AWO Langenau
DESCRIPTION;ENCODING=QUOTED-PRINTABLE:
DTSTAMP:20260425T054316Z
DTSTART;TZID=Europe/Berlin:20231122T183000
DTEND;TZID=Europe/Berlin:20231122T210000
SEQUENCE:0
TRANSP:OPAQUE
END:VEVENT
END:VCALENDAR