BEGIN:VCALENDAR
VERSION:2.0
PRODID:-//jEvents 2.0 for Joomla//EN
CALSCALE:GREGORIAN
METHOD:PUBLISH
BEGIN:VTIMEZONE
TZID:Europe/Berlin
END:VTIMEZONE
BEGIN:VEVENT
UID:913f4503b49b84038479e0fff2f3e638
CATEGORIES:Öffentlich
SUMMARY:Jugendgruppe Basteln in der AWO
DESCRIPTION;ENCODING=QUOTED-PRINTABLE:
DTSTAMP:20260425T054342Z
DTSTART;TZID=Europe/Berlin:20231129T183000
DTEND;TZID=Europe/Berlin:20231129T210000
SEQUENCE:0
TRANSP:OPAQUE
END:VEVENT
END:VCALENDAR