BEGIN:VCALENDAR
VERSION:2.0
PRODID:-//jEvents 2.0 for Joomla//EN
CALSCALE:GREGORIAN
METHOD:PUBLISH
BEGIN:VTIMEZONE
TZID:Europe/Berlin
END:VTIMEZONE
BEGIN:VEVENT
UID:4bb27d78147924c5d6b9634e41d2af2b
CATEGORIES:Öffentlich
SUMMARY:Jahreshauptversammlung im Gasthaus Linde in Langenau
DESCRIPTION;ENCODING=QUOTED-PRINTABLE:
DTSTAMP:20260425T054450Z
DTSTART;TZID=Europe/Berlin:20240301T190000
SEQUENCE:0
TRANSP:OPAQUE
END:VEVENT
END:VCALENDAR