BEGIN:VCALENDAR
VERSION:2.0
PRODID:-//jEvents 2.0 for Joomla//EN
CALSCALE:GREGORIAN
METHOD:PUBLISH
BEGIN:VTIMEZONE
TZID:Europe/Berlin
END:VTIMEZONE
BEGIN:VEVENT
UID:bc04b7728cfe9a4b50d328e06c6dd349
CATEGORIES:Öffentlich
SUMMARY:Jahresessen im Gasthof Schlössle in Lindenau
DESCRIPTION;ENCODING=QUOTED-PRINTABLE:\n\nNachdem das Jahresessen (anstatt einer Weihnachtsfeier) mit unseren Fam
 ilienangehörigen in Lindenau im vergangenen Januar auf eine durchweg positi
 ve Resonanz gestoßen ist, wollen wir dieses Treffen auch im neuen Jahr wied
 er machen.\n Wir möchten euch deshalb ganz herzlich mit euren Angehörigen a
 m Samstag den 27. Januar 2024 ab 19 Uhr ins Gasthaus zum Schlössle nach Lin
 denau einladen.\n Wir haben dort wieder den Wintergarten reservieren können
 . Das gut bürgerliche und preislich faire Essen in der Gaststätte Lindenau 
 gibt es á la Carte. Wer nichts essen möchte, ist selbstverständlich ebenfal
 ls herzlich willkommen.\n Damit die Wirtsleute in Lindenau Planungssicherhe
 it bekommen, bitten wir euch um Anmeldung per Mail an die Diese E-Mail-Adre
 sse ist vor Spambots geschützt! Zur Anzeige muss JavaScript eingeschaltet s
 ein!
				document.getElementById('cloakc0ec1d08fb8be806425989693d291062').i
 nnerHTML = '';
				var prefix = '&#109;a' + 'i&#108;' + '&#116;o';
				var 
 path = 'hr' + 'ef' + '=';
				var addyc0ec1d08fb8be806425989693d291062 = '&
 #105;nf&#111;' + '&#64;';
				addyc0ec1d08fb8be806425989693d291062 = addyc0
 ec1d08fb8be806425989693d291062 + 'msv-l&#97;ng&#101;n&#97;&#117;' + '&#46;'
  + 'd&#101;';
				var addy_textc0ec1d08fb8be806425989693d291062 = '&#105;nf
 &#111;' + '&#64;' + 'msv-l&#97;ng&#101;n&#97;&#117;' + '&#46;' + 'd&#101;';
 document.getElementById('cloakc0ec1d08fb8be806425989693d291062').innerHTML 
 += ''+addy_textc0ec1d08fb8be806425989693d291062+'';
		 oder WhatsApp an die
  0172-7675890, ob und mit wie vielen Personen ihr teilnehmen werdet. Die An
 meldung sollte bis spätestens zum 23.01.24 erfolgt sein.\n \n
DTSTAMP:20260425T054342Z
DTSTART;TZID=Europe/Berlin:20240127T190000
SEQUENCE:0
TRANSP:OPAQUE
END:VEVENT
END:VCALENDAR