BEGIN:VCALENDAR
VERSION:2.0
PRODID:-//jEvents 2.0 for Joomla//EN
CALSCALE:GREGORIAN
METHOD:PUBLISH
BEGIN:VTIMEZONE
TZID:Europe/Berlin
END:VTIMEZONE
BEGIN:VEVENT
UID:961634c7d34efc888f014fa6d650a9c5
CATEGORIES:Öffentlich
SUMMARY:Vorstandstreffen benachbarter Vereine in HDH / Skiclub Schnoida
DESCRIPTION;ENCODING=QUOTED-PRINTABLE:
DTSTAMP:20260425T054343Z
DTSTART;TZID=Europe/Berlin:20240120T110000
SEQUENCE:0
TRANSP:OPAQUE
END:VEVENT
END:VCALENDAR