BEGIN:VCALENDAR
VERSION:2.0
PRODID:-//jEvents 2.0 for Joomla//EN
CALSCALE:GREGORIAN
METHOD:PUBLISH
BEGIN:VTIMEZONE
TZID:Europe/Berlin
END:VTIMEZONE
BEGIN:VEVENT
UID:cdde59e60229f59b13a38665f441ceb8
CATEGORIES:Öffentlich
SUMMARY:Ausschusssitzung in der AWO
DESCRIPTION;ENCODING=QUOTED-PRINTABLE:
DTSTAMP:20260425T054316Z
DTSTART;TZID=Europe/Berlin:20240201T193000
SEQUENCE:0
TRANSP:OPAQUE
END:VEVENT
END:VCALENDAR