BEGIN:VCALENDAR
VERSION:2.0
PRODID:-//jEvents 2.0 for Joomla//EN
CALSCALE:GREGORIAN
METHOD:PUBLISH
BEGIN:VTIMEZONE
TZID:Europe/Berlin
END:VTIMEZONE
BEGIN:VEVENT
UID:ba4a1be2ea6feaee36a45ded7f87bcb5
CATEGORIES:Öffentlich
SUMMARY:Hallenfliegen in der Stadthalle Langenau, siehe Infomail vom 16.01.24
DESCRIPTION;ENCODING=QUOTED-PRINTABLE:
DTSTAMP:20260425T054316Z
DTSTART;TZID=Europe/Berlin:20240123T203000
DTEND;TZID=Europe/Berlin:20240123T220000
SEQUENCE:0
TRANSP:OPAQUE
END:VEVENT
END:VCALENDAR