BEGIN:VCALENDAR
VERSION:2.0
PRODID:-//jEvents 2.0 for Joomla//EN
CALSCALE:GREGORIAN
METHOD:PUBLISH
BEGIN:VTIMEZONE
TZID:Europe/Berlin
END:VTIMEZONE
BEGIN:VEVENT
UID:f297f94487aea70e2695f75c399fb7ea
CATEGORIES:Öffentlich
SUMMARY:Hallenfliegen in der Stadthalle
DESCRIPTION;ENCODING=QUOTED-PRINTABLE:
DTSTAMP:20260425T054359Z
DTSTART;TZID=Europe/Berlin:20240206T203000
DTEND;TZID=Europe/Berlin:20240206T220000
SEQUENCE:0
TRANSP:OPAQUE
END:VEVENT
END:VCALENDAR