BEGIN:VCALENDAR
VERSION:2.0
PRODID:-//jEvents 2.0 for Joomla//EN
CALSCALE:GREGORIAN
METHOD:PUBLISH
BEGIN:VTIMEZONE
TZID:Europe/Berlin
END:VTIMEZONE
BEGIN:VEVENT
UID:b9102568c390d0b0d40d6cc403cc5f3e
CATEGORIES:Öffentlich
SUMMARY:Hallenfliegen in der Stadthalle Langenau
DESCRIPTION;ENCODING=QUOTED-PRINTABLE:
DTSTAMP:20260425T054251Z
DTSTART;TZID=Europe/Berlin:20240220T203000
DTEND;TZID=Europe/Berlin:20240220T220000
SEQUENCE:0
TRANSP:OPAQUE
END:VEVENT
END:VCALENDAR