BEGIN:VCALENDAR
VERSION:2.0
PRODID:-//jEvents 2.0 for Joomla//EN
CALSCALE:GREGORIAN
METHOD:PUBLISH
BEGIN:VTIMEZONE
TZID:Europe/Berlin
END:VTIMEZONE
BEGIN:VEVENT
UID:98d4c870d9429904b71363d5db30de70
CATEGORIES:Öffentlich
SUMMARY:Bauernvesper im Adler in Neerenstetten >> Achtung: Anmeldung zum Essen unbedingt erforderlich, siehe Infomail vom 07.02.24
DESCRIPTION;ENCODING=QUOTED-PRINTABLE:
DTSTAMP:20260425T054317Z
DTSTART;TZID=Europe/Berlin:20240222T193000
SEQUENCE:0
TRANSP:OPAQUE
END:VEVENT
END:VCALENDAR