BEGIN:VCALENDAR
VERSION:2.0
PRODID:-//jEvents 2.0 for Joomla//EN
CALSCALE:GREGORIAN
METHOD:PUBLISH
BEGIN:VTIMEZONE
TZID:Europe/Berlin
END:VTIMEZONE
BEGIN:VEVENT
UID:c35ba41576ca0ab5647b1156d3d1c103
CATEGORIES:Öffentlich
SUMMARY:Hallenfliegen Stadthalle Langenau
DESCRIPTION;ENCODING=QUOTED-PRINTABLE:
DTSTAMP:20260425T054316Z
DTSTART;TZID=Europe/Berlin:20240319T203000
DTEND;TZID=Europe/Berlin:20240319T220000
SEQUENCE:0
TRANSP:OPAQUE
END:VEVENT
END:VCALENDAR