BEGIN:VCALENDAR
VERSION:2.0
PRODID:-//jEvents 2.0 for Joomla//EN
CALSCALE:GREGORIAN
METHOD:PUBLISH
BEGIN:VTIMEZONE
TZID:Europe/Berlin
END:VTIMEZONE
BEGIN:VEVENT
UID:ddd0e83c24a8e8040c78a697da484e78
CATEGORIES:Öffentlich
SUMMARY:Platzpflege Modellflugplatz
DESCRIPTION;ENCODING=QUOTED-PRINTABLE:
DTSTAMP:20260425T054316Z
DTSTART;TZID=Europe/Berlin:20241019T130000
SEQUENCE:0
TRANSP:OPAQUE
END:VEVENT
END:VCALENDAR