BEGIN:VCALENDAR
VERSION:2.0
PRODID:-//jEvents 2.0 for Joomla//EN
CALSCALE:GREGORIAN
METHOD:PUBLISH
BEGIN:VTIMEZONE
TZID:Europe/Berlin
END:VTIMEZONE
BEGIN:VEVENT
UID:2c095bc15eb6add50b8a17692443ec99
CATEGORIES:Öffentlich
SUMMARY:Stammtisch in der AWO Langenau
DESCRIPTION;ENCODING=QUOTED-PRINTABLE:
DTSTAMP:20260425T041843Z
DTSTART;TZID=Europe/Berlin:20241129T190000
SEQUENCE:0
TRANSP:OPAQUE
END:VEVENT
END:VCALENDAR