BEGIN:VCALENDAR
VERSION:2.0
PRODID:-//jEvents 2.0 for Joomla//EN
CALSCALE:GREGORIAN
METHOD:PUBLISH
BEGIN:VTIMEZONE
TZID:Europe/Berlin
END:VTIMEZONE
BEGIN:VEVENT
UID:744a3f6443785f7f6001ce5c09ad535b
CATEGORIES:Öffentlich
SUMMARY:Hallenfliegen Stadthalle Langenau
DESCRIPTION;ENCODING=QUOTED-PRINTABLE:
DTSTAMP:20260425T060420Z
DTSTART;TZID=Europe/Berlin:20250401T203000
DTEND;TZID=Europe/Berlin:20250401T220000
SEQUENCE:0
TRANSP:OPAQUE
END:VEVENT
END:VCALENDAR