BEGIN:VCALENDAR
VERSION:2.0
PRODID:-//jEvents 2.0 for Joomla//EN
CALSCALE:GREGORIAN
METHOD:PUBLISH
BEGIN:VTIMEZONE
TZID:Europe/Berlin
END:VTIMEZONE
BEGIN:VEVENT
UID:bfa0a4326030ee4c844f71336c17375e
CATEGORIES:Öffentlich
SUMMARY:1.Orgatreffen anlässlich unserer Modellbauausstellung zum 50igsten Vereinsjubiläums in 2026. Ort: in der AWO Langenau. Dazu sind alle Mitglieder eingeladen!
DESCRIPTION;ENCODING=QUOTED-PRINTABLE:
DTSTAMP:20260425T060517Z
DTSTART;TZID=Europe/Berlin:20251107T193000
SEQUENCE:0
TRANSP:OPAQUE
END:VEVENT
END:VCALENDAR