BEGIN:VCALENDAR
VERSION:2.0
PRODID:-//jEvents 2.0 for Joomla//EN
CALSCALE:GREGORIAN
METHOD:PUBLISH
BEGIN:VTIMEZONE
TZID:Europe/Berlin
END:VTIMEZONE
BEGIN:VEVENT
UID:4bd00973388b854dfd1f9b62e04d9d17
CATEGORIES:Öffentlich
SUMMARY:Bastelabend der Jugendgruppe in der AWO Langenau
DESCRIPTION;ENCODING=QUOTED-PRINTABLE:
DTSTAMP:20260425T060435Z
DTSTART;TZID=Europe/Berlin:20251119T183000
DTEND;TZID=Europe/Berlin:20251119T210000
SEQUENCE:0
TRANSP:OPAQUE
END:VEVENT
END:VCALENDAR