BEGIN:VCALENDAR
VERSION:2.0
PRODID:-//jEvents 2.0 for Joomla//EN
CALSCALE:GREGORIAN
METHOD:PUBLISH
BEGIN:VTIMEZONE
TZID:Europe/Berlin
END:VTIMEZONE
BEGIN:VEVENT
UID:c0a33deafd8296229da86f58c56ad6c2
CATEGORIES:Öffentlich
SUMMARY:Wir sind zum Stammtisch nach Schalkstetten eingeladen. Dieses Mal in der Vereinshütte am Modellflugplatz der Schalkstetter auf dem Burren
DESCRIPTION;ENCODING=QUOTED-PRINTABLE:
DTSTAMP:20260425T060435Z
DTSTART;TZID=Europe/Berlin:20251128T183000
SEQUENCE:0
TRANSP:OPAQUE
END:VEVENT
END:VCALENDAR