BEGIN:VCALENDAR
VERSION:2.0
PRODID:-//jEvents 2.0 for Joomla//EN
CALSCALE:GREGORIAN
METHOD:PUBLISH
BEGIN:VTIMEZONE
TZID:Europe/Berlin
END:VTIMEZONE
BEGIN:VEVENT
UID:d013a0c28c256b93950293be1c20a7c3
CATEGORIES:Öffentlich
SUMMARY:Hallenfliegen in der Stadthalle Langenau
DESCRIPTION;ENCODING=QUOTED-PRINTABLE:
DTSTAMP:20260425T060435Z
DTSTART;TZID=Europe/Berlin:20251125T203000
DTEND;TZID=Europe/Berlin:20251125T220000
SEQUENCE:0
TRANSP:OPAQUE
END:VEVENT
END:VCALENDAR