BEGIN:VCALENDAR
VERSION:2.0
PRODID:-//jEvents 2.0 for Joomla//EN
CALSCALE:GREGORIAN
METHOD:PUBLISH
BEGIN:VTIMEZONE
TZID:Europe/Berlin
END:VTIMEZONE
BEGIN:VEVENT
UID:a5eafc103e92d82e9d30e932b5a58dd5
CATEGORIES:Öffentlich
SUMMARY:Stammtisch in Schalkstetten - Flugplatz Hütte, Essen 19 Uhr
DESCRIPTION;ENCODING=QUOTED-PRINTABLE:
DTSTAMP:20260425T135140Z
DTSTART;TZID=Europe/Berlin:20260327T183000
SEQUENCE:0
TRANSP:OPAQUE
END:VEVENT
END:VCALENDAR