BEGIN:VCALENDAR
VERSION:2.0
PRODID:-//jEvents 2.0 for Joomla//EN
CALSCALE:GREGORIAN
METHOD:PUBLISH
BEGIN:VTIMEZONE
TZID:Europe/Berlin
END:VTIMEZONE
BEGIN:VEVENT
UID:3c7707caffafe246d7e764d272ba378d
CATEGORIES:Öffentlich
SUMMARY:Flugleiterbesprechung -- ABGESAGT--
DESCRIPTION;ENCODING=QUOTED-PRINTABLE:
DTSTAMP:20260425T175721Z
DTSTART;TZID=Europe/Berlin:20200313T193000
SEQUENCE:0
TRANSP:OPAQUE
END:VEVENT
END:VCALENDAR