BEGIN:VCALENDAR
VERSION:2.0
PRODID:-//jEvents 2.0 for Joomla//EN
CALSCALE:GREGORIAN
METHOD:PUBLISH
BEGIN:VTIMEZONE
TZID:Europe/Berlin
END:VTIMEZONE
BEGIN:VEVENT
UID:dd5b67d73af8d57eae12b840a8daa7be
CATEGORIES:Öffentlich
SUMMARY:--ABGESAGT--Platzpflege Flugplatz
DESCRIPTION;ENCODING=QUOTED-PRINTABLE:
DTSTAMP:20260425T175723Z
DTSTART;TZID=Europe/Berlin:20200328T130000
SEQUENCE:0
TRANSP:OPAQUE
END:VEVENT
END:VCALENDAR