BEGIN:VCALENDAR
VERSION:2.0
PRODID:-//jEvents 2.0 for Joomla//EN
CALSCALE:GREGORIAN
METHOD:PUBLISH
BEGIN:VTIMEZONE
TZID:Europe/Berlin
END:VTIMEZONE
BEGIN:VEVENT
UID:1f0354da11223d214b5d81439c5272b2
CATEGORIES:Öffentlich
SUMMARY:--ABGESAGT-- Anfliegen
DESCRIPTION;ENCODING=QUOTED-PRINTABLE:
DTSTAMP:20260425T175636Z
DTSTART;TZID=Europe/Berlin;VALUE=DATE:20200329
DTEND;TZID=Europe/Berlin;VALUE=DATE:20200330
SEQUENCE:0
TRANSP:OPAQUE
END:VEVENT
END:VCALENDAR