BEGIN:VCALENDAR
VERSION:2.0
PRODID:-//jEvents 2.0 for Joomla//EN
CALSCALE:GREGORIAN
METHOD:PUBLISH
BEGIN:VTIMEZONE
TZID:Europe/Berlin
END:VTIMEZONE
BEGIN:VEVENT
UID:906ff3cbb4471acf275c2853a14a4b93
CATEGORIES:Öffentlich
SUMMARY:Silvesterfliegen -- fällt aus ---
DESCRIPTION;ENCODING=QUOTED-PRINTABLE:
DTSTAMP:20260425T152405Z
DTSTART;TZID=Europe/Berlin:20201231T130000
DTEND;TZID=Europe/Berlin:20201231T160000
SEQUENCE:0
TRANSP:OPAQUE
END:VEVENT
END:VCALENDAR